BEGIN:VCALENDAR
VERSION:2.0
PRODID:-//Cotton Candy Caboodle - ECPv6.15.13.1//NONSGML v1.0//EN
CALSCALE:GREGORIAN
METHOD:PUBLISH
X-WR-CALNAME:Cotton Candy Caboodle
X-ORIGINAL-URL:https://cottoncandycaboodle.co.uk
X-WR-CALDESC:Events for Cotton Candy Caboodle
REFRESH-INTERVAL;VALUE=DURATION:PT1H
X-Robots-Tag:noindex
X-PUBLISHED-TTL:PT1H
BEGIN:VTIMEZONE
TZID:Europe/London
BEGIN:DAYLIGHT
TZOFFSETFROM:+0000
TZOFFSETTO:+0100
TZNAME:BST
DTSTART:20230326T010000
END:DAYLIGHT
BEGIN:STANDARD
TZOFFSETFROM:+0100
TZOFFSETTO:+0000
TZNAME:GMT
DTSTART:20231029T010000
END:STANDARD
BEGIN:DAYLIGHT
TZOFFSETFROM:+0000
TZOFFSETTO:+0100
TZNAME:BST
DTSTART:20240331T010000
END:DAYLIGHT
BEGIN:STANDARD
TZOFFSETFROM:+0100
TZOFFSETTO:+0000
TZNAME:GMT
DTSTART:20241027T010000
END:STANDARD
BEGIN:DAYLIGHT
TZOFFSETFROM:+0000
TZOFFSETTO:+0100
TZNAME:BST
DTSTART:20250330T010000
END:DAYLIGHT
BEGIN:STANDARD
TZOFFSETFROM:+0100
TZOFFSETTO:+0000
TZNAME:GMT
DTSTART:20251026T010000
END:STANDARD
END:VTIMEZONE
BEGIN:VEVENT
DTSTART;TZID=Europe/London:20241201T110000
DTEND;TZID=Europe/London:20241201T163000
DTSTAMP:20260422T042256
CREATED:20240725T220658Z
LAST-MODIFIED:20240725T220727Z
UID:16526-1733050800-1733070600@cottoncandycaboodle.co.uk
SUMMARY:Christmas Makers Fair
DESCRIPTION:
URL:https://cottoncandycaboodle.co.uk/event/christmas-makers-fair-3/
LOCATION:Saltdean Lido\, The Oval Park\, Saltdean Park Road\, Brighton\, BN2 8SP
CATEGORIES:Craft Fair
END:VEVENT
BEGIN:VEVENT
DTSTART;TZID=Europe/London:20241207T100000
DTEND;TZID=Europe/London:20241207T153000
DTSTAMP:20260422T042256
CREATED:20240725T220848Z
LAST-MODIFIED:20240725T220848Z
UID:16529-1733565600-1733585400@cottoncandycaboodle.co.uk
SUMMARY:Christmas Makers Fair
DESCRIPTION:
URL:https://cottoncandycaboodle.co.uk/event/christmas-makers-fair-4/
LOCATION:The Shoreham Centre\, 2 Pond Road\, Shoreham-by-Sea\, BN43 5WU
CATEGORIES:Craft Fair
END:VEVENT
BEGIN:VEVENT
DTSTART;TZID=Europe/London:20241214T110000
DTEND;TZID=Europe/London:20241214T170000
DTSTAMP:20260422T042256
CREATED:20240725T220954Z
LAST-MODIFIED:20240725T220954Z
UID:16533-1734174000-1734195600@cottoncandycaboodle.co.uk
SUMMARY:Rainbow Craft Events Artisan Makers Fair
DESCRIPTION:
URL:https://cottoncandycaboodle.co.uk/event/rainbow-craft-events-artisan-makers-fair-17/
LOCATION:Brighton Unitarian Church\, New Rd\, Brighton\, Brighton and Hove\, BN1 1UF\, United Kingdom
CATEGORIES:Craft Fair
END:VEVENT
BEGIN:VEVENT
DTSTART;TZID=Europe/London:20241215T103000
DTEND;TZID=Europe/London:20241215T163000
DTSTAMP:20260422T042256
CREATED:20240725T220926Z
LAST-MODIFIED:20240725T220926Z
UID:16531-1734258600-1734280200@cottoncandycaboodle.co.uk
SUMMARY:Christmas Makers Fair
DESCRIPTION:
URL:https://cottoncandycaboodle.co.uk/event/christmas-makers-fair-5/
LOCATION:Wagner Hall\, 2 Regency Rd\, Brighton\, BN1 2RU\, United Kingdom
CATEGORIES:Craft Fair
END:VEVENT
END:VCALENDAR